BEGIN:VCALENDAR
VERSION:2.0
BEGIN:VEVENT
CATEGORIES:Category,Community Events,Category,Employee Events,Category,Student Events,Location,Quality Center for Business,featured,Yes
DESCRIPTION:Money doesn&rsquo;t have to feel stressful. In this free workshop, you&rsquo;ll learn how to take control of your finances with simple, realistic budgeting strategies designed for student life. You&rsquo;ll learn how to:  Understand the real value of creating a budget (and why it&rsquo;s worth it) Build a simple, flexible budget you can actually stick to Tackle debt with smart, manageable strategies Develop everyday habits that support long-term financial health  Just practical tools to help you feel more confident and in control of your money. Reserve your seat! Date April 27, 2026 Time 1:00 - 2:00 p.m. Location Quality Center for Business
DTSTAMP:20260419T124106
DTSTART:20260427T130000
DTEND:20260427T140000
LOCATION:Quality Center for Business
SUMMARY;LANGUAGE=en-us:Budgeting Workshop
UID:c1589f262759ddeaccbc10fbd2f6b1ea@staging.sanjuancollege.edu
END:VEVENT
END:VCALENDAR

